BEGIN:VCALENDAR
PRODID:-//spiritec//spiritec media library//EN
VERSION:2.0
METHOD:PUBLISH
BEGIN:VEVENT
UID:ical-2026-10-17-2226
DTSTART:20261017T173000Z
DTSTAMP:20260424T144743Z
LOCATION:Großes Haus
SUMMARY:Alles Liebe!
DESCRIPTION:
CREATED:20260424T144743Z
DTEND:20261017T200000Z
END:VEVENT
END:VCALENDAR
