BEGIN:VCALENDAR
PRODID:-//spiritec//spiritec media library//EN
VERSION:2.0
METHOD:PUBLISH
BEGIN:VEVENT
UID:ical-2027-06-26-2221
DTSTART:20270626T173000Z
DTSTAMP:20260424T112621Z
LOCATION:Großes Haus
SUMMARY:8. Sinfoniekonzert: Konzertfest: Mythen und Märchen
DESCRIPTION:
CREATED:20260424T112621Z
DTEND:20270626T173000Z
END:VEVENT
END:VCALENDAR
