BEGIN:VCALENDAR
PRODID:-//spiritec//spiritec media library//EN
VERSION:2.0
METHOD:PUBLISH
BEGIN:VEVENT
UID:ical-2027-04-11-2219
DTSTART:20270411T090000Z
DTSTAMP:20260423T163243Z
LOCATION:Großes Haus
SUMMARY:Karneval der Tiere
DESCRIPTION:
CREATED:20260423T163243Z
DTEND:20270411T090000Z
END:VEVENT
END:VCALENDAR
