BEGIN:VCALENDAR
PRODID:-//spiritec//spiritec media library//EN
VERSION:2.0
METHOD:PUBLISH
BEGIN:VEVENT
UID:ical-2026-12-21-2218
DTSTART:20261221T090000Z
DTSTAMP:20260423T170656Z
LOCATION:Großes Haus
SUMMARY:Hänsel und Gretel
DESCRIPTION:
CREATED:20260423T170656Z
DTEND:20261221T090000Z
END:VEVENT
END:VCALENDAR
