BEGIN:VCALENDAR
PRODID:-//spiritec//spiritec media library//EN
VERSION:2.0
METHOD:PUBLISH
BEGIN:VEVENT
UID:ical-2026-11-14-2217
DTSTART:20261114T180000Z
DTSTAMP:20260423T180020Z
LOCATION:Großes Haus
SUMMARY:Faustpreis Verleihung
DESCRIPTION:
CREATED:20260423T180020Z
DTEND:20261114T180000Z
END:VEVENT
END:VCALENDAR
