BEGIN:VCALENDAR
PRODID:-//spiritec//spiritec media library//EN
VERSION:2.0
METHOD:PUBLISH
BEGIN:VEVENT
UID:ical-2026-09-26-2213
DTSTART:20260926T173000Z
DTSTAMP:20260423T134002Z
LOCATION:Großes Haus
SUMMARY:Die Zauberflöte
DESCRIPTION:
CREATED:20260423T134002Z
DTEND:20260926T202000Z
END:VEVENT
END:VCALENDAR
