BEGIN:VCALENDAR
PRODID:-//spiritec//spiritec media library//EN
VERSION:2.0
METHOD:PUBLISH
BEGIN:VEVENT
UID:ical-2027-06-05-2210
DTSTART:20270605T173000Z
DTSTAMP:20260423T143910Z
LOCATION:Großes Haus
SUMMARY:La traviata
DESCRIPTION:
CREATED:20260423T143910Z
DTEND:20270605T200000Z
END:VEVENT
END:VCALENDAR
