BEGIN:VCALENDAR
PRODID:-//spiritec//spiritec media library//EN
VERSION:2.0
METHOD:PUBLISH
BEGIN:VEVENT
UID:ical-2027-03-25-2207
DTSTART:20270325T183000Z
DTSTAMP:20260423T143909Z
LOCATION:Großes Haus
SUMMARY:La traviata
DESCRIPTION:
CREATED:20260423T143909Z
DTEND:20270325T210000Z
END:VEVENT
END:VCALENDAR
