BEGIN:VCALENDAR
PRODID:-//spiritec//spiritec media library//EN
VERSION:2.0
METHOD:PUBLISH
BEGIN:VEVENT
UID:ical-2026-12-27-2205
DTSTART:20261227T170000Z
DTSTAMP:20260423T143349Z
LOCATION:Großes Haus
SUMMARY:Tosca
DESCRIPTION:
CREATED:20260423T143349Z
DTEND:20261227T195000Z
END:VEVENT
END:VCALENDAR
