BEGIN:VCALENDAR
PRODID:-//spiritec//spiritec media library//EN
VERSION:2.0
METHOD:PUBLISH
BEGIN:VEVENT
UID:ical-2026-12-12-2204
DTSTART:20261212T183000Z
DTSTAMP:20260423T143350Z
LOCATION:Großes Haus
SUMMARY:Tosca
DESCRIPTION:
CREATED:20260423T143350Z
DTEND:20261212T212000Z
END:VEVENT
END:VCALENDAR
