BEGIN:VCALENDAR
PRODID:-//spiritec//spiritec media library//EN
VERSION:2.0
METHOD:PUBLISH
BEGIN:VEVENT
UID:ical-2026-11-22-2203
DTSTART:20261122T170000Z
DTSTAMP:20260423T143318Z
LOCATION:Großes Haus
SUMMARY:Tosca
DESCRIPTION:
CREATED:20260423T143318Z
DTEND:20261122T195000Z
END:VEVENT
END:VCALENDAR
