BEGIN:VCALENDAR
PRODID:-//spiritec//spiritec media library//EN
VERSION:2.0
METHOD:PUBLISH
BEGIN:VEVENT
UID:ical-2027-04-04-2194
DTSTART:20270404T140000Z
DTSTAMP:20260423T143841Z
LOCATION:Großes Haus
SUMMARY:Romeo und Julia
DESCRIPTION:
CREATED:20260423T143841Z
DTEND:20270404T165000Z
END:VEVENT
END:VCALENDAR
