BEGIN:VCALENDAR
PRODID:-//spiritec//spiritec media library//EN
VERSION:2.0
METHOD:PUBLISH
BEGIN:VEVENT
UID:ical-2027-02-28-2193
DTSTART:20270228T170000Z
DTSTAMP:20260423T143842Z
LOCATION:Großes Haus
SUMMARY:Romeo und Julia
DESCRIPTION:
CREATED:20260423T143842Z
DTEND:20270228T195000Z
END:VEVENT
END:VCALENDAR
