BEGIN:VCALENDAR
PRODID:-//spiritec//spiritec media library//EN
VERSION:2.0
METHOD:PUBLISH
BEGIN:VEVENT
UID:ical-2027-02-04-2192
DTSTART:20270204T183000Z
DTSTAMP:20260423T143833Z
LOCATION:Großes Haus
SUMMARY:Romeo und Julia
DESCRIPTION:
CREATED:20260423T143833Z
DTEND:20270204T212000Z
END:VEVENT
END:VCALENDAR
