BEGIN:VCALENDAR
PRODID:-//spiritec//spiritec media library//EN
VERSION:2.0
METHOD:PUBLISH
BEGIN:VEVENT
UID:ical-2027-06-25-2190
DTSTART:20270625T173000Z
DTSTAMP:20260423T143830Z
LOCATION:Großes Haus
SUMMARY:Die Perlenfischer
DESCRIPTION:
CREATED:20260423T143830Z
DTEND:20270625T173000Z
END:VEVENT
END:VCALENDAR
