BEGIN:VCALENDAR
PRODID:-//spiritec//spiritec media library//EN
VERSION:2.0
METHOD:PUBLISH
BEGIN:VEVENT
UID:ical-2027-06-19-2188
DTSTART:20270619T173000Z
DTSTAMP:20260423T143834Z
LOCATION:Großes Haus
SUMMARY:Die Perlenfischer
DESCRIPTION:
CREATED:20260423T143834Z
DTEND:20270619T173000Z
END:VEVENT
END:VCALENDAR
