BEGIN:VCALENDAR
PRODID:-//spiritec//spiritec media library//EN
VERSION:2.0
METHOD:PUBLISH
BEGIN:VEVENT
UID:ical-2027-04-10-2184
DTSTART:20270410T173000Z
DTSTAMP:20260423T145818Z
LOCATION:Großes Haus
SUMMARY:Eugen Onegin
DESCRIPTION:
CREATED:20260423T145818Z
DTEND:20270410T173000Z
END:VEVENT
END:VCALENDAR
