BEGIN:VCALENDAR
PRODID:-//spiritec//spiritec media library//EN
VERSION:2.0
METHOD:PUBLISH
BEGIN:VEVENT
UID:ical-2026-12-10-2174
DTSTART:20261210T183000Z
DTSTAMP:20260423T143844Z
LOCATION:Großes Haus
SUMMARY:Nachtträume
DESCRIPTION:
CREATED:20260423T143844Z
DTEND:20261210T183000Z
END:VEVENT
END:VCALENDAR
