BEGIN:VCALENDAR
PRODID:-//spiritec//spiritec media library//EN
VERSION:2.0
METHOD:PUBLISH
BEGIN:VEVENT
UID:ical-2027-01-10-2171
DTSTART:20270110T170000Z
DTSTAMP:20260423T143909Z
LOCATION:Großes Haus
SUMMARY:Metropolis Wiesbaden
DESCRIPTION:
CREATED:20260423T143909Z
DTEND:20270110T170000Z
END:VEVENT
END:VCALENDAR
