BEGIN:VCALENDAR
PRODID:-//spiritec//spiritec media library//EN
VERSION:2.0
METHOD:PUBLISH
BEGIN:VEVENT
UID:ical-2026-11-13-2168
DTSTART:20261113T183000Z
DTSTAMP:20260423T143841Z
LOCATION:Großes Haus
SUMMARY:Metropolis Wiesbaden
DESCRIPTION:
CREATED:20260423T143841Z
DTEND:20261113T183000Z
END:VEVENT
END:VCALENDAR
