BEGIN:VCALENDAR
PRODID:-//spiritec//spiritec media library//EN
VERSION:2.0
METHOD:PUBLISH
BEGIN:VEVENT
UID:ical-2026-10-25-2167
DTSTART:20261025T183000Z
DTSTAMP:20260423T143908Z
LOCATION:Großes Haus
SUMMARY:Metropolis Wiesbaden
DESCRIPTION:
CREATED:20260423T143908Z
DTEND:20261025T183000Z
END:VEVENT
END:VCALENDAR
