BEGIN:VCALENDAR
PRODID:-//spiritec//spiritec media library//EN
VERSION:2.0
METHOD:PUBLISH
BEGIN:VEVENT
UID:ical-2026-10-02-2166
DTSTART:20261002T173000Z
DTSTAMP:20260423T143956Z
LOCATION:Großes Haus
SUMMARY:Metropolis Wiesbaden
DESCRIPTION:
CREATED:20260423T143956Z
DTEND:20261002T173000Z
END:VEVENT
END:VCALENDAR
