BEGIN:VCALENDAR
PRODID:-//spiritec//spiritec media library//EN
VERSION:2.0
METHOD:PUBLISH
BEGIN:VEVENT
UID:ical-2026-09-18-2165
DTSTART:20260918T173000Z
DTSTAMP:20260423T143956Z
LOCATION:Großes Haus
SUMMARY:Metropolis Wiesbaden
DESCRIPTION:
CREATED:20260423T143956Z
DTEND:20260918T173000Z
END:VEVENT
END:VCALENDAR
