BEGIN:VCALENDAR
PRODID:-//spiritec//spiritec media library//EN
VERSION:2.0
METHOD:PUBLISH
BEGIN:VEVENT
UID:ical-2026-10-23-2161
DTSTART:20261023T173000Z
DTSTAMP:20260423T143908Z
LOCATION:Großes Haus
SUMMARY:Mephisto
DESCRIPTION:
CREATED:20260423T143908Z
DTEND:20261023T193000Z
END:VEVENT
END:VCALENDAR
