BEGIN:VCALENDAR
PRODID:-//spiritec//spiritec media library//EN
VERSION:2.0
METHOD:PUBLISH
BEGIN:VEVENT
UID:ical-2027-02-07-2159
DTSTART:20270207T170000Z
DTSTAMP:20260423T143833Z
LOCATION:Großes Haus
SUMMARY:La Mamma!
DESCRIPTION:
CREATED:20260423T143833Z
DTEND:20270207T191500Z
END:VEVENT
END:VCALENDAR
