BEGIN:VCALENDAR
PRODID:-//spiritec//spiritec media library//EN
VERSION:2.0
METHOD:PUBLISH
BEGIN:VEVENT
UID:ical-2027-01-16-2158
DTSTART:20270116T183000Z
DTSTAMP:20260423T143835Z
LOCATION:Großes Haus
SUMMARY:La Mamma!
DESCRIPTION:
CREATED:20260423T143835Z
DTEND:20270116T204500Z
END:VEVENT
END:VCALENDAR
