BEGIN:VCALENDAR
PRODID:-//spiritec//spiritec media library//EN
VERSION:2.0
METHOD:PUBLISH
BEGIN:VEVENT
UID:ical-2027-06-06-2155
DTSTART:20270606T160000Z
DTSTAMP:20260423T143836Z
LOCATION:Großes Haus
SUMMARY:Aufstieg und Fall der Stadt Mahagonny
DESCRIPTION:
CREATED:20260423T143836Z
DTEND:20270606T160000Z
END:VEVENT
END:VCALENDAR
