BEGIN:VCALENDAR
PRODID:-//spiritec//spiritec media library//EN
VERSION:2.0
METHOD:PUBLISH
BEGIN:VEVENT
UID:ical-2027-06-03-2154
DTSTART:20270603T173000Z
DTSTAMP:20260423T143835Z
LOCATION:Großes Haus
SUMMARY:Aufstieg und Fall der Stadt Mahagonny
DESCRIPTION:
CREATED:20260423T143835Z
DTEND:20270603T173000Z
END:VEVENT
END:VCALENDAR
