BEGIN:VCALENDAR
PRODID:-//spiritec//spiritec media library//EN
VERSION:2.0
METHOD:PUBLISH
BEGIN:VEVENT
UID:ical-2027-04-18-2152
DTSTART:20270418T160000Z
DTSTAMP:20260423T143835Z
LOCATION:Großes Haus
SUMMARY:Aufstieg und Fall der Stadt Mahagonny
DESCRIPTION:
CREATED:20260423T143835Z
DTEND:20270418T160000Z
END:VEVENT
END:VCALENDAR
