BEGIN:VCALENDAR
PRODID:-//spiritec//spiritec media library//EN
VERSION:2.0
METHOD:PUBLISH
BEGIN:VEVENT
UID:ical-2027-01-14-2150
DTSTART:20270114T183000Z
DTSTAMP:20260423T143908Z
LOCATION:Großes Haus
SUMMARY:Hoffmanns Erzählungen
DESCRIPTION:
CREATED:20260423T143908Z
DTEND:20270114T183000Z
END:VEVENT
END:VCALENDAR
