BEGIN:VCALENDAR
PRODID:-//spiritec//spiritec media library//EN
VERSION:2.0
METHOD:PUBLISH
BEGIN:VEVENT
UID:ical-2026-12-31-2148
DTSTART:20261231T183000Z
DTSTAMP:20260423T143831Z
LOCATION:Großes Haus
SUMMARY:Hoffmanns Erzählungen
DESCRIPTION:
CREATED:20260423T143831Z
DTEND:20261231T183000Z
END:VEVENT
END:VCALENDAR
