BEGIN:VCALENDAR
PRODID:-//spiritec//spiritec media library//EN
VERSION:2.0
METHOD:PUBLISH
BEGIN:VEVENT
UID:ical-2026-12-17-2147
DTSTART:20261217T183000Z
DTSTAMP:20260423T143834Z
LOCATION:Großes Haus
SUMMARY:Hoffmanns Erzählungen
DESCRIPTION:
CREATED:20260423T143834Z
DTEND:20261217T183000Z
END:VEVENT
END:VCALENDAR
