BEGIN:VCALENDAR
PRODID:-//spiritec//spiritec media library//EN
VERSION:2.0
METHOD:PUBLISH
BEGIN:VEVENT
UID:ical-2026-12-04-2146
DTSTART:20261204T183000Z
DTSTAMP:20260423T143843Z
LOCATION:Großes Haus
SUMMARY:Hoffmanns Erzählungen
DESCRIPTION:
CREATED:20260423T143843Z
DTEND:20261204T183000Z
END:VEVENT
END:VCALENDAR
