BEGIN:VCALENDAR
PRODID:-//spiritec//spiritec media library//EN
VERSION:2.0
METHOD:PUBLISH
BEGIN:VEVENT
UID:ical-2026-10-24-2143
DTSTART:20261024T173000Z
DTSTAMP:20260423T143843Z
LOCATION:Großes Haus
SUMMARY:Hoffmanns Erzählungen
DESCRIPTION:
CREATED:20260423T143843Z
DTEND:20261024T173000Z
END:VEVENT
END:VCALENDAR
