BEGIN:VCALENDAR
PRODID:-//spiritec//spiritec media library//EN
VERSION:2.0
METHOD:PUBLISH
BEGIN:VEVENT
UID:ical-2026-12-30-2141
DTSTART:20261230T093000Z
DTSTAMP:20260423T143955Z
LOCATION:Großes Haus
SUMMARY:Herr Bello und das blaue Wunder
DESCRIPTION:
CREATED:20260423T143955Z
DTEND:20261230T093000Z
END:VEVENT
END:VCALENDAR
