BEGIN:VCALENDAR
PRODID:-//spiritec//spiritec media library//EN
VERSION:2.0
METHOD:PUBLISH
BEGIN:VEVENT
UID:ical-2026-12-29-2140
DTSTART:20261229T100000Z
DTSTAMP:20260423T143843Z
LOCATION:Großes Haus
SUMMARY:Herr Bello und das blaue Wunder
DESCRIPTION:
CREATED:20260423T143843Z
DTEND:20261229T100000Z
END:VEVENT
END:VCALENDAR
