BEGIN:VCALENDAR
PRODID:-//spiritec//spiritec media library//EN
VERSION:2.0
METHOD:PUBLISH
BEGIN:VEVENT
UID:ical-2027-01-02-2139
DTSTART:20270102T170000Z
DTSTAMP:20260423T143839Z
LOCATION:Großes Haus
SUMMARY:Hänsel und Gretel
DESCRIPTION:
CREATED:20260423T143839Z
DTEND:20270102T170000Z
END:VEVENT
END:VCALENDAR
