BEGIN:VCALENDAR
PRODID:-//spiritec//spiritec media library//EN
VERSION:2.0
METHOD:PUBLISH
BEGIN:VEVENT
UID:ical-2027-04-16-2135
DTSTART:20270416T173000Z
DTSTAMP:20260423T143842Z
LOCATION:Großes Haus
SUMMARY:Dido and Aeneas
DESCRIPTION:
CREATED:20260423T143842Z
DTEND:20270416T173000Z
END:VEVENT
END:VCALENDAR
