BEGIN:VCALENDAR
PRODID:-//spiritec//spiritec media library//EN
VERSION:2.0
METHOD:PUBLISH
BEGIN:VEVENT
UID:ical-2027-01-29-2132
DTSTART:20270129T183000Z
DTSTAMP:20260423T143843Z
LOCATION:Großes Haus
SUMMARY:Dido and Aeneas
DESCRIPTION:
CREATED:20260423T143843Z
DTEND:20270129T183000Z
END:VEVENT
END:VCALENDAR
