BEGIN:VCALENDAR
PRODID:-//spiritec//spiritec media library//EN
VERSION:2.0
METHOD:PUBLISH
BEGIN:VEVENT
UID:ical-2026-12-15-2125
DTSTART:20261215T183000Z
DTSTAMP:20260423T152746Z
LOCATION:Großes Haus
SUMMARY:Christmas Songs around the Globe
DESCRIPTION:
CREATED:20260423T152746Z
DTEND:20261215T183000Z
END:VEVENT
END:VCALENDAR
