BEGIN:VCALENDAR
PRODID:-//spiritec//spiritec media library//EN
VERSION:2.0
METHOD:PUBLISH
BEGIN:VEVENT
UID:ical-2026-08-29-2124
DTSTART:20260829T173000Z
DTSTAMP:20260423T143222Z
LOCATION:Großes Haus
SUMMARY:Carmina Burana
DESCRIPTION:
CREATED:20260423T143222Z
DTEND:20260829T173000Z
END:VEVENT
END:VCALENDAR
