BEGIN:VCALENDAR
PRODID:-//spiritec//spiritec media library//EN
VERSION:2.0
METHOD:PUBLISH
BEGIN:VEVENT
UID:ical-2026-11-29-2123
DTSTART:20261129T183000Z
DTSTAMP:20260423T150524Z
LOCATION:Großes Haus
SUMMARY:Summertime
DESCRIPTION:
CREATED:20260423T150524Z
DTEND:20261129T200500Z
END:VEVENT
END:VCALENDAR
