BEGIN:VCALENDAR
PRODID:-//spiritec//spiritec media library//EN
VERSION:2.0
METHOD:PUBLISH
BEGIN:VEVENT
UID:ical-2027-03-19-2119
DTSTART:20270319T183000Z
DTSTAMP:20260423T143956Z
LOCATION:Großes Haus
SUMMARY:La Bohème
DESCRIPTION:
CREATED:20260423T143956Z
DTEND:20270319T183000Z
END:VEVENT
END:VCALENDAR
