BEGIN:VCALENDAR
PRODID:-//spiritec//spiritec media library//EN
VERSION:2.0
METHOD:PUBLISH
BEGIN:VEVENT
UID:ical-2027-02-19-2118
DTSTART:20270219T183000Z
DTSTAMP:20260423T143909Z
LOCATION:Großes Haus
SUMMARY:La Bohème
DESCRIPTION:
CREATED:20260423T143909Z
DTEND:20270219T183000Z
END:VEVENT
END:VCALENDAR
