BEGIN:VCALENDAR
PRODID:-//spiritec//spiritec media library//EN
VERSION:2.0
METHOD:PUBLISH
BEGIN:VEVENT
UID:ical-2026-12-13-2113
DTSTART:20261213T183000Z
DTSTAMP:20260423T143837Z
LOCATION:Großes Haus
SUMMARY:La Bohème
DESCRIPTION:
CREATED:20260423T143837Z
DTEND:20261213T183000Z
END:VEVENT
END:VCALENDAR
