BEGIN:VCALENDAR
PRODID:-//spiritec//spiritec media library//EN
VERSION:2.0
METHOD:PUBLISH
BEGIN:VEVENT
UID:ical-2026-12-03-2112
DTSTART:20261203T183000Z
DTSTAMP:20260423T143908Z
LOCATION:Großes Haus
SUMMARY:La Bohème
DESCRIPTION:
CREATED:20260423T143908Z
DTEND:20261203T183000Z
END:VEVENT
END:VCALENDAR
