BEGIN:VCALENDAR
PRODID:-//spiritec//spiritec media library//EN
VERSION:2.0
METHOD:PUBLISH
BEGIN:VEVENT
UID:ical-2027-04-22-2111
DTSTART:20270422T173000Z
DTSTAMP:20260423T143841Z
LOCATION:Großes Haus
SUMMARY:Der Barbier von Sevilla
DESCRIPTION:
CREATED:20260423T143841Z
DTEND:20270422T203000Z
END:VEVENT
END:VCALENDAR
