BEGIN:VCALENDAR
PRODID:-//spiritec//spiritec media library//EN
VERSION:2.0
METHOD:PUBLISH
BEGIN:VEVENT
UID:ical-2027-03-27-2110
DTSTART:20270327T183000Z
DTSTAMP:20260423T143908Z
LOCATION:Großes Haus
SUMMARY:Der Barbier von Sevilla
DESCRIPTION:
CREATED:20260423T143908Z
DTEND:20270327T213000Z
END:VEVENT
END:VCALENDAR
