BEGIN:VCALENDAR
PRODID:-//spiritec//spiritec media library//EN
VERSION:2.0
METHOD:PUBLISH
BEGIN:VEVENT
UID:ical-2027-02-21-2109
DTSTART:20270221T170000Z
DTSTAMP:20260423T143910Z
LOCATION:Großes Haus
SUMMARY:Der Barbier von Sevilla
DESCRIPTION:
CREATED:20260423T143910Z
DTEND:20270221T200000Z
END:VEVENT
END:VCALENDAR
