BEGIN:VCALENDAR
PRODID:-//spiritec//spiritec media library//EN
VERSION:2.0
METHOD:PUBLISH
BEGIN:VEVENT
UID:ical-2027-02-05-2108
DTSTART:20270205T183000Z
DTSTAMP:20260423T143842Z
LOCATION:Großes Haus
SUMMARY:Der Barbier von Sevilla
DESCRIPTION:
CREATED:20260423T143842Z
DTEND:20270205T213000Z
END:VEVENT
END:VCALENDAR
